BEGIN:VCALENDAR
VERSION:2.0
PRODID:-//Earth Haven Farm - ECPv6.15.20//NONSGML v1.0//EN
CALSCALE:GREGORIAN
METHOD:PUBLISH
X-WR-CALNAME:Earth Haven Farm
X-ORIGINAL-URL:https://earthhaven.ca
X-WR-CALDESC:Events for Earth Haven Farm
REFRESH-INTERVAL;VALUE=DURATION:PT1H
X-Robots-Tag:noindex
X-PUBLISHED-TTL:PT1H
BEGIN:VTIMEZONE
TZID:America/Toronto
BEGIN:DAYLIGHT
TZOFFSETFROM:-0500
TZOFFSETTO:-0400
TZNAME:EDT
DTSTART:20240310T070000
END:DAYLIGHT
BEGIN:STANDARD
TZOFFSETFROM:-0400
TZOFFSETTO:-0500
TZNAME:EST
DTSTART:20241103T060000
END:STANDARD
BEGIN:DAYLIGHT
TZOFFSETFROM:-0500
TZOFFSETTO:-0400
TZNAME:EDT
DTSTART:20250309T070000
END:DAYLIGHT
BEGIN:STANDARD
TZOFFSETFROM:-0400
TZOFFSETTO:-0500
TZNAME:EST
DTSTART:20251102T060000
END:STANDARD
BEGIN:DAYLIGHT
TZOFFSETFROM:-0500
TZOFFSETTO:-0400
TZNAME:EDT
DTSTART:20260308T070000
END:DAYLIGHT
BEGIN:STANDARD
TZOFFSETFROM:-0400
TZOFFSETTO:-0500
TZNAME:EST
DTSTART:20261101T060000
END:STANDARD
BEGIN:DAYLIGHT
TZOFFSETFROM:-0500
TZOFFSETTO:-0400
TZNAME:EDT
DTSTART:20270314T070000
END:DAYLIGHT
BEGIN:STANDARD
TZOFFSETFROM:-0400
TZOFFSETTO:-0500
TZNAME:EST
DTSTART:20271107T060000
END:STANDARD
END:VTIMEZONE
BEGIN:VEVENT
DTSTART;TZID=America/Toronto:20260131T080000
DTEND;TZID=America/Toronto:20260131T130000
DTSTAMP:20260420T105932
CREATED:20251231T201350Z
LAST-MODIFIED:20251231T201350Z
UID:2080-1769846400-1769864400@earthhaven.ca
SUMMARY:Evergreen Brickworks Farmers Market
DESCRIPTION:Visit Aric at the Earth Haven Farm table\, April through November\, at Evergreen Brickworks farmers market. \nSeasonal produce\, veggies\, berries\, herbs\, flowers\, teas\, meat\, maple syrup\, honey\, crafts and our new line-up of preserves from the farm. Get them while supplies last. \nwww.earthhaven.ca\nwww.evergreen.ca
URL:https://earthhaven.ca/event/evergreen-brickworks-farmers-market-33/
CATEGORIES:Farmers Markets
END:VEVENT
BEGIN:VEVENT
DTSTART;TZID=America/Toronto:20260124T080000
DTEND;TZID=America/Toronto:20260124T130000
DTSTAMP:20260420T105932
CREATED:20251231T201304Z
LAST-MODIFIED:20251231T201304Z
UID:2078-1769241600-1769259600@earthhaven.ca
SUMMARY:Evergreen Brickworks Farmers Market
DESCRIPTION:Visit Aric at the Earth Haven Farm table\, April through November\, at Evergreen Brickworks farmers market. \nSeasonal produce\, veggies\, berries\, herbs\, flowers\, teas\, meat\, maple syrup\, honey\, crafts and our new line-up of preserves from the farm. Get them while supplies last. \nwww.earthhaven.ca\nwww.evergreen.ca
URL:https://earthhaven.ca/event/evergreen-brickworks-farmers-market-32/
CATEGORIES:Farmers Markets
END:VEVENT
BEGIN:VEVENT
DTSTART;TZID=America/Toronto:20260117T080000
DTEND;TZID=America/Toronto:20260117T130000
DTSTAMP:20260420T105932
CREATED:20251231T191355Z
LAST-MODIFIED:20251231T191355Z
UID:2074-1768636800-1768654800@earthhaven.ca
SUMMARY:Evergreen Brickworks Farmers Market
DESCRIPTION:Visit Aric at the Earth Haven Farm table\, April through November\, at Evergreen Brickworks farmers market. \nSeasonal produce\, veggies\, berries\, herbs\, flowers\, teas\, meat\, maple syrup\, honey\, crafts and our new line-up of preserves from the farm. Get them while supplies last. \nwww.earthhaven.ca\nwww.evergreen.ca
URL:https://earthhaven.ca/event/evergreen-brickworks-farmers-market-30/
CATEGORIES:Farmers Markets
END:VEVENT
BEGIN:VEVENT
DTSTART;TZID=America/Toronto:20260110T080000
DTEND;TZID=America/Toronto:20260110T130000
DTSTAMP:20260420T105932
CREATED:20251231T201933Z
LAST-MODIFIED:20251231T201946Z
UID:2082-1768032000-1768050000@earthhaven.ca
SUMMARY:Evergreen Brickworks Farmers Market
DESCRIPTION:Visit Aric at the Earth Haven Farm table\, April through November\, at Evergreen Brickworks farmers market. \nSeasonal produce\, veggies\, berries\, herbs\, flowers\, teas\, meat\, maple syrup\, honey\, crafts and our new line-up of preserves from the farm. Get them while supplies last. \nwww.earthhaven.ca\nwww.evergreen.ca
URL:https://earthhaven.ca/event/evergreen-brickworks-farmers-market-31/
CATEGORIES:Farmers Markets
END:VEVENT
BEGIN:VEVENT
DTSTART;TZID=America/Toronto:20260103T080000
DTEND;TZID=America/Toronto:20260103T130000
DTSTAMP:20260420T105932
CREATED:20251231T191237Z
LAST-MODIFIED:20251231T191237Z
UID:2072-1767427200-1767445200@earthhaven.ca
SUMMARY:Evergreen Brickworks Farmers Market
DESCRIPTION:Visit Aric at the Earth Haven Farm table\, April through November\, at Evergreen Brickworks farmers market. \nSeasonal produce\, veggies\, berries\, herbs\, flowers\, teas\, meat\, maple syrup\, honey\, crafts and our new line-up of preserves from the farm. Get them while supplies last. \nwww.earthhaven.ca\nwww.evergreen.ca
URL:https://earthhaven.ca/event/evergreen-brickworks-farmers-market-29/
CATEGORIES:Farmers Markets
END:VEVENT
BEGIN:VEVENT
DTSTART;TZID=America/Toronto:20251220T083000
DTEND;TZID=America/Toronto:20251220T130000
DTSTAMP:20260420T105932
CREATED:20260103T222655Z
LAST-MODIFIED:20251231T191006Z
UID:2030-1766219400-1766235600@earthhaven.ca
SUMMARY:Evergreen Brickworks Farmers Market
DESCRIPTION:Visit Aric at Evergreen Brickworks farmers market this Saturday. It will be the last market of the year as Evergreen Brickworks will be closed until Saturday\, January 3\, 2026. Drop by and say hello to Aric. Wishing all of you a Happy Holiday Season and we will look forward to seeing you again in 2026 \nOpen 9am to 1pm \nSeasonal produce\, veggies\, berries\, herbs\, flowers\, teas\, meat\, maple syrup\, honey\, crafts and our new line-up of preserves from the farm. Get them while supplies last. New to the table is an assortment of reusable products handcrafted by Aric’s sister Tabitha at Earth Haven Farm. \nwww.earthhaven.ca\nwww.evergreen.ca
URL:https://earthhaven.ca/event/evergreen-brickworks-farmers-market-28/
CATEGORIES:Farmers Markets
END:VEVENT
BEGIN:VEVENT
DTSTART;TZID=America/Toronto:20251206T083000
DTEND;TZID=America/Toronto:20251206T130000
DTSTAMP:20260420T105932
CREATED:20251011T225752Z
LAST-MODIFIED:20251030T224207Z
UID:1878-1765009800-1765026000@earthhaven.ca
SUMMARY:Evergreen Brickworks Farmers Market
DESCRIPTION:Visit Aric at the Earth Haven Farm table\, April through November\, at Evergreen Brickworks farmers market. \nSeasonal produce\, veggies\, berries\, herbs\, flowers\, teas\, meat\, maple syrup\, honey\, crafts and our new line-up of preserves from the farm. Get them while supplies last. \nwww.earthhaven.ca\nwww.evergreen.ca
URL:https://earthhaven.ca/event/evergreen-brickworks-farmers-market-19/
CATEGORIES:Farmers Markets
END:VEVENT
BEGIN:VEVENT
DTSTART;TZID=America/Toronto:20251129T083000
DTEND;TZID=America/Toronto:20251129T130000
DTSTAMP:20260420T105932
CREATED:20251008T231230Z
LAST-MODIFIED:20251030T224245Z
UID:1888-1764405000-1764421200@earthhaven.ca
SUMMARY:Evergreen Brickworks Farmers Market
DESCRIPTION:Visit Aric at the Earth Haven Farm table\, April through November\, at Evergreen Brickworks farmers market. \nSeasonal produce\, veggies\, berries\, herbs\, flowers\, teas\, meat\, maple syrup\, honey\, crafts and our new line-up of preserves from the farm. Get them while supplies last. \nwww.earthhaven.ca\nwww.evergreen.ca
URL:https://earthhaven.ca/event/evergreen-brickworks-farmers-market-20/
CATEGORIES:Farmers Markets
END:VEVENT
BEGIN:VEVENT
DTSTART;TZID=America/Toronto:20251122T083000
DTEND;TZID=America/Toronto:20251122T130000
DTSTAMP:20260420T105932
CREATED:20251012T230948Z
LAST-MODIFIED:20251030T224337Z
UID:1887-1763800200-1763816400@earthhaven.ca
SUMMARY:Evergreen Brickworks Farmers Market
DESCRIPTION:Visit Aric at the Earth Haven Farm table\, April through November\, at Evergreen Brickworks farmers market. \nSeasonal produce\, veggies\, berries\, herbs\, flowers\, teas\, meat\, maple syrup\, honey\, crafts and our new line-up of preserves from the farm. Get them while supplies last. \nwww.earthhaven.ca\nwww.evergreen.ca
URL:https://earthhaven.ca/event/evergreen-brickworks-farmers-market-25/
CATEGORIES:Farmers Markets
END:VEVENT
BEGIN:VEVENT
DTSTART;TZID=America/Toronto:20251115T083000
DTEND;TZID=America/Toronto:20251115T130000
DTSTAMP:20260420T105932
CREATED:20251012T231025Z
LAST-MODIFIED:20251030T224419Z
UID:1886-1763195400-1763211600@earthhaven.ca
SUMMARY:Evergreen Brickworks Farmers Market
DESCRIPTION:Visit Aric at the Earth Haven Farm table\, April through November\, at Evergreen Brickworks farmers market. \nSeasonal produce\, veggies\, berries\, herbs\, flowers\, teas\, meat\, maple syrup\, honey\, crafts and our new line-up of preserves from the farm. Get them while supplies last. \nwww.earthhaven.ca\nwww.evergreen.ca
URL:https://earthhaven.ca/event/evergreen-brickworks-farmers-market-26/
CATEGORIES:Farmers Markets
END:VEVENT
BEGIN:VEVENT
DTSTART;TZID=America/Toronto:20251108T083000
DTEND;TZID=America/Toronto:20251108T130000
DTSTAMP:20260420T105932
CREATED:20251012T231056Z
LAST-MODIFIED:20251030T224500Z
UID:1885-1762590600-1762606800@earthhaven.ca
SUMMARY:Evergreen Brickworks Farmers Market
DESCRIPTION:Visit Aric at the Earth Haven Farm table\, April through November\, at Evergreen Brickworks farmers market. \nSeasonal produce\, veggies\, berries\, herbs\, flowers\, teas\, meat\, maple syrup\, honey\, crafts and our new line-up of preserves from the farm. Get them while supplies last. \nwww.earthhaven.ca\nwww.evergreen.ca
URL:https://earthhaven.ca/event/evergreen-brickworks-farmers-market-27/
CATEGORIES:Farmers Markets
END:VEVENT
BEGIN:VEVENT
DTSTART;TZID=America/Toronto:20251101T083000
DTEND;TZID=America/Toronto:20251101T130000
DTSTAMP:20260420T105932
CREATED:20251008T232051Z
LAST-MODIFIED:20251030T224122Z
UID:1884-1761985800-1762002000@earthhaven.ca
SUMMARY:Evergreen Brickworks Farmers Market
DESCRIPTION:Visit Aric at the Earth Haven Farm table\, April through November\, at Evergreen Brickworks farmers market. \nSeasonal produce\, veggies\, berries\, herbs\, flowers\, teas\, meat\, maple syrup\, honey\, crafts and our new line-up of preserves from the farm. Get them while supplies last. \nwww.earthhaven.ca\nwww.evergreen.ca
URL:https://earthhaven.ca/event/evergreen-brickworks-farmers-market-24/
CATEGORIES:Farmers Markets
END:VEVENT
BEGIN:VEVENT
DTSTART;TZID=America/Toronto:20251025T083000
DTEND;TZID=America/Toronto:20251025T130000
DTSTAMP:20260420T105932
CREATED:20251008T231958Z
LAST-MODIFIED:20251008T231958Z
UID:1883-1761381000-1761397200@earthhaven.ca
SUMMARY:Evergreen Brickworks Farmers Market
DESCRIPTION:Earth Haven Farm at Evergreen Brickworks Farmers Market \nVisit Aric at the Earth Haven Farm table\, April through November\, at Evergreen Brickworks farmers market. \nSeasonal produce\, veggies\, berries\, herbs\, flowers\, teas\, meat\, maple syrup\, honey\, crafts and more. \nwww.earthhaven.ca\nwww.evergreen.ca
URL:https://earthhaven.ca/event/evergreen-brickworks-farmers-market-23/
CATEGORIES:Farmers Markets
END:VEVENT
BEGIN:VEVENT
DTSTART;TZID=America/Toronto:20251018T083000
DTEND;TZID=America/Toronto:20251018T130000
DTSTAMP:20260420T105932
CREATED:20251008T231925Z
LAST-MODIFIED:20251012T230740Z
UID:1882-1760776200-1760792400@earthhaven.ca
SUMMARY:Evergreen Brickworks Farmers Market
DESCRIPTION:Visit Aric at the Earth Haven Farm table\, April through November\, at Evergreen Brickworks farmers market. \nSeasonal produce\, veggies\, berries\, herbs\, flowers\, teas\, meat\, maple syrup\, honey\, crafts and more. \nwww.earthhaven.ca\nwww.evergreen.ca
URL:https://earthhaven.ca/event/evergreen-brickworks-farmers-market-22/
CATEGORIES:Farmers Markets
END:VEVENT
BEGIN:VEVENT
DTSTART;TZID=America/Toronto:20251011T083000
DTEND;TZID=America/Toronto:20251011T130000
DTSTAMP:20260420T105932
CREATED:20251008T231805Z
LAST-MODIFIED:20251008T231813Z
UID:1881-1760171400-1760187600@earthhaven.ca
SUMMARY:Evergreen Brickworks Farmers Market
DESCRIPTION:Earth Haven Farm at Evergreen Brickworks Farmers Market \nVisit Aric at the Earth Haven Farm table\, April through November\, at Evergreen Brickworks farmers market. \nSeasonal produce\, veggies\, berries\, herbs\, flowers\, teas\, meat\, maple syrup\, honey\, crafts and more. \nwww.earthhaven.ca\nwww.evergreen.ca
URL:https://earthhaven.ca/event/evergreen-brickworks-farmers-market-21/
CATEGORIES:Farmers Markets
END:VEVENT
BEGIN:VEVENT
DTSTART;TZID=America/Toronto:20251004T083000
DTEND;TZID=America/Toronto:20251004T130000
DTSTAMP:20260420T105932
CREATED:20250720T192604Z
LAST-MODIFIED:20251008T231630Z
UID:1698-1759566600-1759582800@earthhaven.ca
SUMMARY:Evergreen Brickworks Farmers Market
DESCRIPTION:Visit Aric at the Earth Haven Farm table\, April through November\, at Evergreen Brickworks farmers market. \nSeasonal produce\, veggies\, berries\, herbs\, flowers\, teas\, meat\, maple syrup\, honey\, crafts and more. \nwww.earthhaven.ca\nwww.evergreen.ca
URL:https://earthhaven.ca/event/evergreen-brickworks-farmers-market-18/
CATEGORIES:Farmers Markets
END:VEVENT
BEGIN:VEVENT
DTSTART;TZID=America/Toronto:20250927T083000
DTEND;TZID=America/Toronto:20250927T130000
DTSTAMP:20260420T105932
CREATED:20250720T192515Z
LAST-MODIFIED:20250720T192515Z
UID:1699-1758961800-1758978000@earthhaven.ca
SUMMARY:Evergreen Brickworks Farmers Market
DESCRIPTION:Visit Aric at the Earth Haven Farm table\, April through November\, at Evergreen Brickworks farmers market. \nSeasonal produce\, veggies\, berries\, herbs\, flowers\, teas\, meat\, maple syrup\, honey\, crafts and more. \nwww.earthhaven.ca\nwww.evergreen.ca
URL:https://earthhaven.ca/event/evergreen-brickworks-farmers-market-17/
CATEGORIES:Farmers Markets
END:VEVENT
BEGIN:VEVENT
DTSTART;TZID=America/Toronto:20250913T083000
DTEND;TZID=America/Toronto:20250913T130000
DTSTAMP:20260420T105932
CREATED:20250720T192417Z
LAST-MODIFIED:20250720T192417Z
UID:1696-1757752200-1757768400@earthhaven.ca
SUMMARY:Evergreen Brickworks Farmers Market
DESCRIPTION:Visit Aric at the Earth Haven Farm table\, April through November\, at Evergreen Brickworks farmers market. \nSeasonal produce\, veggies\, berries\, herbs\, flowers\, teas\, meat\, maple syrup\, honey\, crafts and more. \nwww.earthhaven.ca\nwww.evergreen.ca
URL:https://earthhaven.ca/event/evergreen-brickworks-farmers-market-16/
CATEGORIES:Farmers Markets
END:VEVENT
BEGIN:VEVENT
DTSTART;TZID=America/Toronto:20250906T083000
DTEND;TZID=America/Toronto:20250906T130000
DTSTAMP:20260420T105932
CREATED:20250720T192333Z
LAST-MODIFIED:20250720T192333Z
UID:1694-1757147400-1757163600@earthhaven.ca
SUMMARY:Evergreen Brickworks Farmers Market
DESCRIPTION:Visit Aric at the Earth Haven Farm table\, April through November\, at Evergreen Brickworks farmers market. \nSeasonal produce\, veggies\, berries\, herbs\, flowers\, teas\, meat\, maple syrup\, honey\, crafts and more. \nwww.earthhaven.ca\nwww.evergreen.ca
URL:https://earthhaven.ca/event/evergreen-brickworks-farmers-market-15/
CATEGORIES:Farmers Markets
END:VEVENT
BEGIN:VEVENT
DTSTART;TZID=America/Toronto:20250830T083000
DTEND;TZID=America/Toronto:20250830T130000
DTSTAMP:20260420T105932
CREATED:20250720T192246Z
LAST-MODIFIED:20250720T192246Z
UID:1692-1756542600-1756558800@earthhaven.ca
SUMMARY:Evergreen Brickworks Farmers Market
DESCRIPTION:Visit Aric at the Earth Haven Farm table\, April through November\, at Evergreen Brickworks farmers market. \nSeasonal produce\, veggies\, berries\, herbs\, flowers\, teas\, meat\, maple syrup\, honey\, crafts and more. \nwww.earthhaven.ca\nwww.evergreen.ca
URL:https://earthhaven.ca/event/evergreen-brickworks-farmers-market-14/
CATEGORIES:Farmers Markets
END:VEVENT
BEGIN:VEVENT
DTSTART;TZID=America/Toronto:20250823T083000
DTEND;TZID=America/Toronto:20250823T130000
DTSTAMP:20260420T105932
CREATED:20250720T192215Z
LAST-MODIFIED:20250720T192215Z
UID:1690-1755937800-1755954000@earthhaven.ca
SUMMARY:Evergreen Brickworks Farmers Market
DESCRIPTION:Visit Aric at the Earth Haven Farm table\, April through November\, at Evergreen Brickworks farmers market. \nSeasonal produce\, veggies\, berries\, herbs\, flowers\, teas\, meat\, maple syrup\, honey\, crafts and more. \nwww.earthhaven.ca\nwww.evergreen.ca
URL:https://earthhaven.ca/event/evergreen-brickworks-farmers-market-13/
CATEGORIES:Farmers Markets
END:VEVENT
BEGIN:VEVENT
DTSTART;TZID=America/Toronto:20250816T083000
DTEND;TZID=America/Toronto:20250816T130000
DTSTAMP:20260420T105932
CREATED:20250720T192136Z
LAST-MODIFIED:20250720T192136Z
UID:1688-1755333000-1755349200@earthhaven.ca
SUMMARY:Evergreen Brickworks Farmers Market
DESCRIPTION:Visit Aric at the Earth Haven Farm table\, April through November\, at Evergreen Brickworks farmers market. \nSeasonal produce\, veggies\, berries\, herbs\, flowers\, teas\, meat\, maple syrup\, honey\, crafts and more. \nwww.earthhaven.ca\nwww.evergreen.ca
URL:https://earthhaven.ca/event/evergreen-brickworks-farmers-market-12/
CATEGORIES:Farmers Markets
END:VEVENT
BEGIN:VEVENT
DTSTART;TZID=America/Toronto:20250802T083000
DTEND;TZID=America/Toronto:20250802T130000
DTSTAMP:20260420T105932
CREATED:20250720T191746Z
LAST-MODIFIED:20250720T191746Z
UID:1686-1754123400-1754139600@earthhaven.ca
SUMMARY:Evergreen Brickworks Farmers Market
DESCRIPTION:Visit Aric at the Earth Haven Farm table\, April through November\, at Evergreen Brickworks farmers market. \nSeasonal produce\, veggies\, berries\, herbs\, flowers\, teas\, meat\, maple syrup\, honey\, crafts and more. \nwww.earthhaven.ca\nwww.evergreen.ca
URL:https://earthhaven.ca/event/evergreen-brickworks-farmers-market-11/
CATEGORIES:Farmers Markets
END:VEVENT
BEGIN:VEVENT
DTSTART;TZID=America/Toronto:20250726T083000
DTEND;TZID=America/Toronto:20250726T130000
DTSTAMP:20260420T105932
CREATED:20250720T185350Z
LAST-MODIFIED:20250720T185637Z
UID:1675-1753518600-1753534800@earthhaven.ca
SUMMARY:Evergreen Brickworks Farmers Market
DESCRIPTION:Visit Aric at the Earth Haven Farm table\, April through November\, at Evergreen Brickworks farmers market. \nSeasonal produce\, veggies\, berries\, herbs\, flowers\, teas\, meat\, maple syrup\, honey\, crafts and more. \nwww.earthhaven.ca\nwww.evergreen.ca
URL:https://earthhaven.ca/event/evergreen-farmers-market/
CATEGORIES:Farmers Markets
END:VEVENT
BEGIN:VEVENT
DTSTART;TZID=America/Toronto:20250712T083000
DTEND;TZID=America/Toronto:20250712T130000
DTSTAMP:20260420T105932
CREATED:20250720T190300Z
LAST-MODIFIED:20250720T190300Z
UID:1678-1752309000-1752325200@earthhaven.ca
SUMMARY:Evergreen Brickworks Farmers Market
DESCRIPTION:Visit Aric at the Earth Haven Farm table\, April through November\, at Evergreen Brickworks farmers market. \nSeasonal produce\, veggies\, berries\, herbs\, flowers\, teas\, meat\, maple syrup\, honey\, crafts and more. \nwww.earthhaven.ca\nwww.evergreen.ca
URL:https://earthhaven.ca/event/evergreen-brickworks-farmers-market-9/
CATEGORIES:Farmers Markets
END:VEVENT
BEGIN:VEVENT
DTSTART;TZID=America/Toronto:20250705T083000
DTEND;TZID=America/Toronto:20250705T130000
DTSTAMP:20260420T105932
CREATED:20250720T190415Z
LAST-MODIFIED:20250720T190415Z
UID:1680-1751704200-1751720400@earthhaven.ca
SUMMARY:Evergreen Brickworks Farmers Market
DESCRIPTION:Visit Aric at the Earth Haven Farm table\, April through November\, at Evergreen Brickworks farmers market. \nSeasonal produce\, veggies\, berries\, herbs\, flowers\, teas\, meat\, maple syrup\, honey\, crafts and more. \nwww.earthhaven.ca\nwww.evergreen.ca
URL:https://earthhaven.ca/event/evergreen-brickworks-farmers-market-10/
CATEGORIES:Farmers Markets
END:VEVENT
BEGIN:VEVENT
DTSTART;TZID=America/Toronto:20250628T083000
DTEND;TZID=America/Toronto:20250628T130000
DTSTAMP:20260420T105932
CREATED:20250609T191322Z
LAST-MODIFIED:20250609T191722Z
UID:1186-1751099400-1751115600@earthhaven.ca
SUMMARY:Evergreen Brickworks Farmers Market
DESCRIPTION:Visit Aric at the Earth Haven Farm table\, April through November\, at Evergreen Brickworks farmers market. \nSeasonal produce\, veggies\, berries\, herbs\, flowers\, teas\, meat\, maple syrup\, honey\, crafts and more. \nwww.earthhaven.cawww.evergreen.ca
URL:https://earthhaven.ca/event/evergreen-brickworks-farmers-market-8/
LOCATION:Evergreen Brickworks Farmers Market\, 550 Bayview Ave. Suite 300\, Toronto\, ON\, M4W3X8\, Canada
CATEGORIES:Farmers Markets
END:VEVENT
BEGIN:VEVENT
DTSTART;TZID=America/Toronto:20250621T083000
DTEND;TZID=America/Toronto:20250628T130000
DTSTAMP:20260420T105932
CREATED:20250621T123818Z
LAST-MODIFIED:20250609T191705Z
UID:562-1750494600-1751115600@earthhaven.ca
SUMMARY:Evergreen Brickworks Farmers Market
DESCRIPTION:Visit Aric at the Earth Haven Farm table\, April through November\, at Evergreen Brickworks farmers market. \nSeasonal produce\, veggies\, berries\, herbs\, flowers\, teas\, meat\, maple syrup\, honey\, crafts and more. \nwww.earthhaven.cawww.evergreen.ca
URL:https://earthhaven.ca/event/evergreen-brickworks-farmers-market/
LOCATION:Evergreen Brickworks Farmers Market\, 550 Bayview Ave. Suite 300\, Toronto\, ON\, M4W3X8\, Canada
CATEGORIES:Farmers Markets
END:VEVENT
BEGIN:VEVENT
DTSTART;TZID=America/Toronto:20250614T083000
DTEND;TZID=America/Toronto:20250614T130000
DTSTAMP:20260420T105932
CREATED:20250514T193606Z
LAST-MODIFIED:20250609T191152Z
UID:616-1749889800-1749906000@earthhaven.ca
SUMMARY:Evergreen Brickworks Farmers Market
DESCRIPTION:Visit Aric at the Earth Haven Farm table\, April through November\, at Evergreen Brickworks farmers market. \nSeasonal produce\, veggies\, berries\, herbs\, flowers\, teas\, meat\, maple syrup\, honey\, crafts and more. \nwww.earthhaven.cawww.evergreen.ca
URL:https://earthhaven.ca/event/evergreen-brickworks-farmers-market-6/
LOCATION:Evergreen Brickworks Farmers Market\, 550 Bayview Ave. Suite 300\, Toronto\, ON\, M4W3X8\, Canada
CATEGORIES:Farmers Markets
END:VEVENT
BEGIN:VEVENT
DTSTART;TZID=America/Toronto:20250607T083000
DTEND;TZID=America/Toronto:20250607T130000
DTSTAMP:20260420T105932
CREATED:20250621T193542Z
LAST-MODIFIED:20250609T191138Z
UID:617-1749285000-1749301200@earthhaven.ca
SUMMARY:Evergreen Brickworks Farmers Market
DESCRIPTION:Visit Aric at the Earth Haven Farm table\, April through November\, at Evergreen Brickworks farmers market. \nSeasonal produce\, veggies\, berries\, herbs\, flowers\, teas\, meat\, maple syrup\, honey\, crafts and more. \nwww.earthhaven.cawww.evergreen.ca
URL:https://earthhaven.ca/event/evergreen-brickworks-farmers-market-5/
LOCATION:Evergreen Brickworks Farmers Market\, 550 Bayview Ave. Suite 300\, Toronto\, ON\, M4W3X8\, Canada
CATEGORIES:Farmers Markets
END:VEVENT
END:VCALENDAR