BEGIN:VCALENDAR
VERSION:2.0
PRODID:-//Earth Haven Farm - ECPv6.15.20//NONSGML v1.0//EN
CALSCALE:GREGORIAN
METHOD:PUBLISH
X-ORIGINAL-URL:https://earthhaven.ca
X-WR-CALDESC:Events for Earth Haven Farm
REFRESH-INTERVAL;VALUE=DURATION:PT1H
X-Robots-Tag:noindex
X-PUBLISHED-TTL:PT1H
BEGIN:VTIMEZONE
TZID:America/Toronto
BEGIN:DAYLIGHT
TZOFFSETFROM:-0500
TZOFFSETTO:-0400
TZNAME:EDT
DTSTART:20240310T070000
END:DAYLIGHT
BEGIN:STANDARD
TZOFFSETFROM:-0400
TZOFFSETTO:-0500
TZNAME:EST
DTSTART:20241103T060000
END:STANDARD
BEGIN:DAYLIGHT
TZOFFSETFROM:-0500
TZOFFSETTO:-0400
TZNAME:EDT
DTSTART:20250309T070000
END:DAYLIGHT
BEGIN:STANDARD
TZOFFSETFROM:-0400
TZOFFSETTO:-0500
TZNAME:EST
DTSTART:20251102T060000
END:STANDARD
BEGIN:DAYLIGHT
TZOFFSETFROM:-0500
TZOFFSETTO:-0400
TZNAME:EDT
DTSTART:20260308T070000
END:DAYLIGHT
BEGIN:STANDARD
TZOFFSETFROM:-0400
TZOFFSETTO:-0500
TZNAME:EST
DTSTART:20261101T060000
END:STANDARD
END:VTIMEZONE
BEGIN:VEVENT
DTSTART;VALUE=DATE:20250719
DTEND;VALUE=DATE:20250721
DTSTAMP:20260420T133012
CREATED:20250720T191058Z
LAST-MODIFIED:20250720T191126Z
UID:1682-1752883200-1753055999@earthhaven.ca
SUMMARY:Indigenous Expo - Bancroft\, ON
DESCRIPTION:Visit Aric at the Indigenous Expo event in Bancroft\, Ontario\nA celebration of Indigenous culture\, craftsmanship & entrepreneurship!\nJoin us at Indigenous Expo\, July 19-20\, 2025.\nNorth Hastings Community Centre\,\nBancroft\, Ontario\nAdmission: $5 – Children 14 & under: free\nwww.indigenousexpo.com
URL:https://earthhaven.ca/event/indigenous-expo-bancroft-on/
CATEGORIES:Pow Wows
END:VEVENT
END:VCALENDAR